BEGIN:VCALENDAR
VERSION:2.0
PRODID:-//nhbc-wv.org - ECPv6.15.20//NONSGML v1.0//EN
CALSCALE:GREGORIAN
METHOD:PUBLISH
X-ORIGINAL-URL:https://nhbc-wv.org
X-WR-CALDESC:Events for nhbc-wv.org
REFRESH-INTERVAL;VALUE=DURATION:PT1H
X-Robots-Tag:noindex
X-PUBLISHED-TTL:PT1H
BEGIN:VTIMEZONE
TZID:America/New_York
BEGIN:DAYLIGHT
TZOFFSETFROM:-0500
TZOFFSETTO:-0400
TZNAME:EDT
DTSTART:20300310T070000
END:DAYLIGHT
BEGIN:STANDARD
TZOFFSETFROM:-0400
TZOFFSETTO:-0500
TZNAME:EST
DTSTART:20301103T060000
END:STANDARD
BEGIN:DAYLIGHT
TZOFFSETFROM:-0500
TZOFFSETTO:-0400
TZNAME:EDT
DTSTART:20310309T070000
END:DAYLIGHT
BEGIN:STANDARD
TZOFFSETFROM:-0400
TZOFFSETTO:-0500
TZNAME:EST
DTSTART:20311102T060000
END:STANDARD
BEGIN:DAYLIGHT
TZOFFSETFROM:-0500
TZOFFSETTO:-0400
TZNAME:EDT
DTSTART:20320314T070000
END:DAYLIGHT
BEGIN:STANDARD
TZOFFSETFROM:-0400
TZOFFSETTO:-0500
TZNAME:EST
DTSTART:20321107T060000
END:STANDARD
END:VTIMEZONE
BEGIN:VEVENT
DTSTART;TZID=America/New_York:20310101T180000
DTEND;TZID=America/New_York:20310101T191500
DTSTAMP:20260422T141012
CREATED:20250325T184651Z
LAST-MODIFIED:20260204T164057Z
UID:10002299-1925056800-1925061300@nhbc-wv.org
SUMMARY:Praise Team Rehearsal
DESCRIPTION:Our praise team meets Wednesday evenings to rehearse for the Sunday worship service.
URL:https://nhbc-wv.org/events/praise-team-rehearsal/2031-01-01/
LOCATION:Sanctuary
CATEGORIES:Fellowship,Small Groups
ATTACH;FMTTYPE=image/png:https://nhbc-wv.org/wp-content/uploads/2025/03/Praise-Team.png
ORGANIZER;CN="Brian McClure":MAILTO:brian.mcclure@nhbc-wv.org
END:VEVENT
BEGIN:VEVENT
DTSTART;TZID=America/New_York:20310101T184500
DTEND;TZID=America/New_York:20310101T200000
DTSTAMP:20260422T141012
CREATED:20250425T185001Z
LAST-MODIFIED:20260204T164016Z
UID:10001993-1925059500-1925064000@nhbc-wv.org
SUMMARY:Choir Rehearsal
DESCRIPTION:Our choir has a short Bible study then rehearses
URL:https://nhbc-wv.org/events/choir-rehearsal/2031-01-01/
LOCATION:Sanctuary
CATEGORIES:Music,Small Groups
ATTACH;FMTTYPE=image/png:https://nhbc-wv.org/wp-content/uploads/2025/03/Choir.png
ORGANIZER;CN="Sara McClure":MAILTO:saramcclure13578@gmail.com
END:VEVENT
BEGIN:VEVENT
DTSTART;TZID=America/New_York:20310108T180000
DTEND;TZID=America/New_York:20310108T191500
DTSTAMP:20260422T141012
CREATED:20250325T184651Z
LAST-MODIFIED:20260204T164057Z
UID:10002300-1925661600-1925666100@nhbc-wv.org
SUMMARY:Praise Team Rehearsal
DESCRIPTION:Our praise team meets Wednesday evenings to rehearse for the Sunday worship service.
URL:https://nhbc-wv.org/events/praise-team-rehearsal/2031-01-08/
LOCATION:Sanctuary
CATEGORIES:Fellowship,Small Groups
ATTACH;FMTTYPE=image/png:https://nhbc-wv.org/wp-content/uploads/2025/03/Praise-Team.png
ORGANIZER;CN="Brian McClure":MAILTO:brian.mcclure@nhbc-wv.org
END:VEVENT
BEGIN:VEVENT
DTSTART;TZID=America/New_York:20310108T184500
DTEND;TZID=America/New_York:20310108T200000
DTSTAMP:20260422T141012
CREATED:20250425T185001Z
LAST-MODIFIED:20260204T164016Z
UID:10001994-1925664300-1925668800@nhbc-wv.org
SUMMARY:Choir Rehearsal
DESCRIPTION:Our choir has a short Bible study then rehearses
URL:https://nhbc-wv.org/events/choir-rehearsal/2031-01-08/
LOCATION:Sanctuary
CATEGORIES:Music,Small Groups
ATTACH;FMTTYPE=image/png:https://nhbc-wv.org/wp-content/uploads/2025/03/Choir.png
ORGANIZER;CN="Sara McClure":MAILTO:saramcclure13578@gmail.com
END:VEVENT
BEGIN:VEVENT
DTSTART;TZID=America/New_York:20310115T180000
DTEND;TZID=America/New_York:20310115T191500
DTSTAMP:20260422T141012
CREATED:20250325T184651Z
LAST-MODIFIED:20260204T164057Z
UID:10002301-1926266400-1926270900@nhbc-wv.org
SUMMARY:Praise Team Rehearsal
DESCRIPTION:Our praise team meets Wednesday evenings to rehearse for the Sunday worship service.
URL:https://nhbc-wv.org/events/praise-team-rehearsal/2031-01-15/
LOCATION:Sanctuary
CATEGORIES:Fellowship,Small Groups
ATTACH;FMTTYPE=image/png:https://nhbc-wv.org/wp-content/uploads/2025/03/Praise-Team.png
ORGANIZER;CN="Brian McClure":MAILTO:brian.mcclure@nhbc-wv.org
END:VEVENT
BEGIN:VEVENT
DTSTART;TZID=America/New_York:20310115T184500
DTEND;TZID=America/New_York:20310115T200000
DTSTAMP:20260422T141012
CREATED:20250425T185001Z
LAST-MODIFIED:20260204T164016Z
UID:10001995-1926269100-1926273600@nhbc-wv.org
SUMMARY:Choir Rehearsal
DESCRIPTION:Our choir has a short Bible study then rehearses
URL:https://nhbc-wv.org/events/choir-rehearsal/2031-01-15/
LOCATION:Sanctuary
CATEGORIES:Music,Small Groups
ATTACH;FMTTYPE=image/png:https://nhbc-wv.org/wp-content/uploads/2025/03/Choir.png
ORGANIZER;CN="Sara McClure":MAILTO:saramcclure13578@gmail.com
END:VEVENT
BEGIN:VEVENT
DTSTART;TZID=America/New_York:20310122T180000
DTEND;TZID=America/New_York:20310122T191500
DTSTAMP:20260422T141012
CREATED:20250325T184651Z
LAST-MODIFIED:20260204T164057Z
UID:10002302-1926871200-1926875700@nhbc-wv.org
SUMMARY:Praise Team Rehearsal
DESCRIPTION:Our praise team meets Wednesday evenings to rehearse for the Sunday worship service.
URL:https://nhbc-wv.org/events/praise-team-rehearsal/2031-01-22/
LOCATION:Sanctuary
CATEGORIES:Fellowship,Small Groups
ATTACH;FMTTYPE=image/png:https://nhbc-wv.org/wp-content/uploads/2025/03/Praise-Team.png
ORGANIZER;CN="Brian McClure":MAILTO:brian.mcclure@nhbc-wv.org
END:VEVENT
BEGIN:VEVENT
DTSTART;TZID=America/New_York:20310122T184500
DTEND;TZID=America/New_York:20310122T200000
DTSTAMP:20260422T141012
CREATED:20250425T185001Z
LAST-MODIFIED:20260204T164016Z
UID:10001996-1926873900-1926878400@nhbc-wv.org
SUMMARY:Choir Rehearsal
DESCRIPTION:Our choir has a short Bible study then rehearses
URL:https://nhbc-wv.org/events/choir-rehearsal/2031-01-22/
LOCATION:Sanctuary
CATEGORIES:Music,Small Groups
ATTACH;FMTTYPE=image/png:https://nhbc-wv.org/wp-content/uploads/2025/03/Choir.png
ORGANIZER;CN="Sara McClure":MAILTO:saramcclure13578@gmail.com
END:VEVENT
BEGIN:VEVENT
DTSTART;TZID=America/New_York:20310129T180000
DTEND;TZID=America/New_York:20310129T191500
DTSTAMP:20260422T141012
CREATED:20250325T184651Z
LAST-MODIFIED:20260204T164057Z
UID:10002303-1927476000-1927480500@nhbc-wv.org
SUMMARY:Praise Team Rehearsal
DESCRIPTION:Our praise team meets Wednesday evenings to rehearse for the Sunday worship service.
URL:https://nhbc-wv.org/events/praise-team-rehearsal/2031-01-29/
LOCATION:Sanctuary
CATEGORIES:Fellowship,Small Groups
ATTACH;FMTTYPE=image/png:https://nhbc-wv.org/wp-content/uploads/2025/03/Praise-Team.png
ORGANIZER;CN="Brian McClure":MAILTO:brian.mcclure@nhbc-wv.org
END:VEVENT
BEGIN:VEVENT
DTSTART;TZID=America/New_York:20310129T184500
DTEND;TZID=America/New_York:20310129T200000
DTSTAMP:20260422T141012
CREATED:20250425T185001Z
LAST-MODIFIED:20260204T164016Z
UID:10001997-1927478700-1927483200@nhbc-wv.org
SUMMARY:Choir Rehearsal
DESCRIPTION:Our choir has a short Bible study then rehearses
URL:https://nhbc-wv.org/events/choir-rehearsal/2031-01-29/
LOCATION:Sanctuary
CATEGORIES:Music,Small Groups
ATTACH;FMTTYPE=image/png:https://nhbc-wv.org/wp-content/uploads/2025/03/Choir.png
ORGANIZER;CN="Sara McClure":MAILTO:saramcclure13578@gmail.com
END:VEVENT
END:VCALENDAR