BEGIN:VCALENDAR
VERSION:2.0
PRODID:-//nhbc-wv.org - ECPv6.15.20//NONSGML v1.0//EN
CALSCALE:GREGORIAN
METHOD:PUBLISH
X-ORIGINAL-URL:https://nhbc-wv.org
X-WR-CALDESC:Events for nhbc-wv.org
REFRESH-INTERVAL;VALUE=DURATION:PT1H
X-Robots-Tag:noindex
X-PUBLISHED-TTL:PT1H
BEGIN:VTIMEZONE
TZID:America/New_York
BEGIN:DAYLIGHT
TZOFFSETFROM:-0500
TZOFFSETTO:-0400
TZNAME:EDT
DTSTART:20290311T070000
END:DAYLIGHT
BEGIN:STANDARD
TZOFFSETFROM:-0400
TZOFFSETTO:-0500
TZNAME:EST
DTSTART:20291104T060000
END:STANDARD
BEGIN:DAYLIGHT
TZOFFSETFROM:-0500
TZOFFSETTO:-0400
TZNAME:EDT
DTSTART:20300310T070000
END:DAYLIGHT
BEGIN:STANDARD
TZOFFSETFROM:-0400
TZOFFSETTO:-0500
TZNAME:EST
DTSTART:20301103T060000
END:STANDARD
BEGIN:DAYLIGHT
TZOFFSETFROM:-0500
TZOFFSETTO:-0400
TZNAME:EDT
DTSTART:20310309T070000
END:DAYLIGHT
BEGIN:STANDARD
TZOFFSETFROM:-0400
TZOFFSETTO:-0500
TZNAME:EST
DTSTART:20311102T060000
END:STANDARD
END:VTIMEZONE
BEGIN:VEVENT
DTSTART;TZID=America/New_York:20301204T180000
DTEND;TZID=America/New_York:20301204T191500
DTSTAMP:20260422T123749
CREATED:20250325T184651Z
LAST-MODIFIED:20260204T164057Z
UID:10002295-1922637600-1922642100@nhbc-wv.org
SUMMARY:Praise Team Rehearsal
DESCRIPTION:Our praise team meets Wednesday evenings to rehearse for the Sunday worship service.
URL:https://nhbc-wv.org/events/praise-team-rehearsal/2030-12-04/
LOCATION:Sanctuary
CATEGORIES:Fellowship,Small Groups
ATTACH;FMTTYPE=image/png:https://nhbc-wv.org/wp-content/uploads/2025/03/Praise-Team.png
ORGANIZER;CN="Brian McClure":MAILTO:brian.mcclure@nhbc-wv.org
END:VEVENT
BEGIN:VEVENT
DTSTART;TZID=America/New_York:20301204T184500
DTEND;TZID=America/New_York:20301204T200000
DTSTAMP:20260422T123749
CREATED:20250425T185001Z
LAST-MODIFIED:20260204T164016Z
UID:10001989-1922640300-1922644800@nhbc-wv.org
SUMMARY:Choir Rehearsal
DESCRIPTION:Our choir has a short Bible study then rehearses
URL:https://nhbc-wv.org/events/choir-rehearsal/2030-12-04/
LOCATION:Sanctuary
CATEGORIES:Music,Small Groups
ATTACH;FMTTYPE=image/png:https://nhbc-wv.org/wp-content/uploads/2025/03/Choir.png
ORGANIZER;CN="Sara McClure":MAILTO:saramcclure13578@gmail.com
END:VEVENT
BEGIN:VEVENT
DTSTART;TZID=America/New_York:20301211T180000
DTEND;TZID=America/New_York:20301211T191500
DTSTAMP:20260422T123749
CREATED:20250325T184651Z
LAST-MODIFIED:20260204T164057Z
UID:10002296-1923242400-1923246900@nhbc-wv.org
SUMMARY:Praise Team Rehearsal
DESCRIPTION:Our praise team meets Wednesday evenings to rehearse for the Sunday worship service.
URL:https://nhbc-wv.org/events/praise-team-rehearsal/2030-12-11/
LOCATION:Sanctuary
CATEGORIES:Fellowship,Small Groups
ATTACH;FMTTYPE=image/png:https://nhbc-wv.org/wp-content/uploads/2025/03/Praise-Team.png
ORGANIZER;CN="Brian McClure":MAILTO:brian.mcclure@nhbc-wv.org
END:VEVENT
BEGIN:VEVENT
DTSTART;TZID=America/New_York:20301211T184500
DTEND;TZID=America/New_York:20301211T200000
DTSTAMP:20260422T123749
CREATED:20250425T185001Z
LAST-MODIFIED:20260204T164016Z
UID:10001990-1923245100-1923249600@nhbc-wv.org
SUMMARY:Choir Rehearsal
DESCRIPTION:Our choir has a short Bible study then rehearses
URL:https://nhbc-wv.org/events/choir-rehearsal/2030-12-11/
LOCATION:Sanctuary
CATEGORIES:Music,Small Groups
ATTACH;FMTTYPE=image/png:https://nhbc-wv.org/wp-content/uploads/2025/03/Choir.png
ORGANIZER;CN="Sara McClure":MAILTO:saramcclure13578@gmail.com
END:VEVENT
BEGIN:VEVENT
DTSTART;TZID=America/New_York:20301218T180000
DTEND;TZID=America/New_York:20301218T191500
DTSTAMP:20260422T123749
CREATED:20250325T184651Z
LAST-MODIFIED:20260204T164057Z
UID:10002297-1923847200-1923851700@nhbc-wv.org
SUMMARY:Praise Team Rehearsal
DESCRIPTION:Our praise team meets Wednesday evenings to rehearse for the Sunday worship service.
URL:https://nhbc-wv.org/events/praise-team-rehearsal/2030-12-18/
LOCATION:Sanctuary
CATEGORIES:Fellowship,Small Groups
ATTACH;FMTTYPE=image/png:https://nhbc-wv.org/wp-content/uploads/2025/03/Praise-Team.png
ORGANIZER;CN="Brian McClure":MAILTO:brian.mcclure@nhbc-wv.org
END:VEVENT
BEGIN:VEVENT
DTSTART;TZID=America/New_York:20301218T184500
DTEND;TZID=America/New_York:20301218T200000
DTSTAMP:20260422T123749
CREATED:20250425T185001Z
LAST-MODIFIED:20260204T164016Z
UID:10001991-1923849900-1923854400@nhbc-wv.org
SUMMARY:Choir Rehearsal
DESCRIPTION:Our choir has a short Bible study then rehearses
URL:https://nhbc-wv.org/events/choir-rehearsal/2030-12-18/
LOCATION:Sanctuary
CATEGORIES:Music,Small Groups
ATTACH;FMTTYPE=image/png:https://nhbc-wv.org/wp-content/uploads/2025/03/Choir.png
ORGANIZER;CN="Sara McClure":MAILTO:saramcclure13578@gmail.com
END:VEVENT
BEGIN:VEVENT
DTSTART;TZID=America/New_York:20301225T180000
DTEND;TZID=America/New_York:20301225T191500
DTSTAMP:20260422T123749
CREATED:20250325T184651Z
LAST-MODIFIED:20260204T164057Z
UID:10002298-1924452000-1924456500@nhbc-wv.org
SUMMARY:Praise Team Rehearsal
DESCRIPTION:Our praise team meets Wednesday evenings to rehearse for the Sunday worship service.
URL:https://nhbc-wv.org/events/praise-team-rehearsal/2030-12-25/
LOCATION:Sanctuary
CATEGORIES:Fellowship,Small Groups
ATTACH;FMTTYPE=image/png:https://nhbc-wv.org/wp-content/uploads/2025/03/Praise-Team.png
ORGANIZER;CN="Brian McClure":MAILTO:brian.mcclure@nhbc-wv.org
END:VEVENT
BEGIN:VEVENT
DTSTART;TZID=America/New_York:20301225T184500
DTEND;TZID=America/New_York:20301225T200000
DTSTAMP:20260422T123749
CREATED:20250425T185001Z
LAST-MODIFIED:20260204T164016Z
UID:10001992-1924454700-1924459200@nhbc-wv.org
SUMMARY:Choir Rehearsal
DESCRIPTION:Our choir has a short Bible study then rehearses
URL:https://nhbc-wv.org/events/choir-rehearsal/2030-12-25/
LOCATION:Sanctuary
CATEGORIES:Music,Small Groups
ATTACH;FMTTYPE=image/png:https://nhbc-wv.org/wp-content/uploads/2025/03/Choir.png
ORGANIZER;CN="Sara McClure":MAILTO:saramcclure13578@gmail.com
END:VEVENT
END:VCALENDAR