BEGIN:VCALENDAR
VERSION:2.0
PRODID:-//nhbc-wv.org - ECPv6.15.20//NONSGML v1.0//EN
CALSCALE:GREGORIAN
METHOD:PUBLISH
X-ORIGINAL-URL:https://nhbc-wv.org
X-WR-CALDESC:Events for nhbc-wv.org
REFRESH-INTERVAL;VALUE=DURATION:PT1H
X-Robots-Tag:noindex
X-PUBLISHED-TTL:PT1H
BEGIN:VTIMEZONE
TZID:America/New_York
BEGIN:DAYLIGHT
TZOFFSETFROM:-0500
TZOFFSETTO:-0400
TZNAME:EDT
DTSTART:20290311T070000
END:DAYLIGHT
BEGIN:STANDARD
TZOFFSETFROM:-0400
TZOFFSETTO:-0500
TZNAME:EST
DTSTART:20291104T060000
END:STANDARD
BEGIN:DAYLIGHT
TZOFFSETFROM:-0500
TZOFFSETTO:-0400
TZNAME:EDT
DTSTART:20300310T070000
END:DAYLIGHT
BEGIN:STANDARD
TZOFFSETFROM:-0400
TZOFFSETTO:-0500
TZNAME:EST
DTSTART:20301103T060000
END:STANDARD
BEGIN:DAYLIGHT
TZOFFSETFROM:-0500
TZOFFSETTO:-0400
TZNAME:EDT
DTSTART:20310309T070000
END:DAYLIGHT
BEGIN:STANDARD
TZOFFSETFROM:-0400
TZOFFSETTO:-0500
TZNAME:EST
DTSTART:20311102T060000
END:STANDARD
END:VTIMEZONE
BEGIN:VEVENT
DTSTART;TZID=America/New_York:20301106T180000
DTEND;TZID=America/New_York:20301106T191500
DTSTAMP:20260422T110249
CREATED:20250325T184651Z
LAST-MODIFIED:20260204T164057Z
UID:10002291-1920218400-1920222900@nhbc-wv.org
SUMMARY:Praise Team Rehearsal
DESCRIPTION:Our praise team meets Wednesday evenings to rehearse for the Sunday worship service.
URL:https://nhbc-wv.org/events/praise-team-rehearsal/2030-11-06/
LOCATION:Sanctuary
CATEGORIES:Fellowship,Small Groups
ATTACH;FMTTYPE=image/png:https://nhbc-wv.org/wp-content/uploads/2025/03/Praise-Team.png
ORGANIZER;CN="Brian McClure":MAILTO:brian.mcclure@nhbc-wv.org
END:VEVENT
BEGIN:VEVENT
DTSTART;TZID=America/New_York:20301106T184500
DTEND;TZID=America/New_York:20301106T200000
DTSTAMP:20260422T110249
CREATED:20250425T185001Z
LAST-MODIFIED:20260204T164016Z
UID:10001985-1920221100-1920225600@nhbc-wv.org
SUMMARY:Choir Rehearsal
DESCRIPTION:Our choir has a short Bible study then rehearses
URL:https://nhbc-wv.org/events/choir-rehearsal/2030-11-06/
LOCATION:Sanctuary
CATEGORIES:Music,Small Groups
ATTACH;FMTTYPE=image/png:https://nhbc-wv.org/wp-content/uploads/2025/03/Choir.png
ORGANIZER;CN="Sara McClure":MAILTO:saramcclure13578@gmail.com
END:VEVENT
BEGIN:VEVENT
DTSTART;TZID=America/New_York:20301113T180000
DTEND;TZID=America/New_York:20301113T191500
DTSTAMP:20260422T110249
CREATED:20250325T184651Z
LAST-MODIFIED:20260204T164057Z
UID:10002292-1920823200-1920827700@nhbc-wv.org
SUMMARY:Praise Team Rehearsal
DESCRIPTION:Our praise team meets Wednesday evenings to rehearse for the Sunday worship service.
URL:https://nhbc-wv.org/events/praise-team-rehearsal/2030-11-13/
LOCATION:Sanctuary
CATEGORIES:Fellowship,Small Groups
ATTACH;FMTTYPE=image/png:https://nhbc-wv.org/wp-content/uploads/2025/03/Praise-Team.png
ORGANIZER;CN="Brian McClure":MAILTO:brian.mcclure@nhbc-wv.org
END:VEVENT
BEGIN:VEVENT
DTSTART;TZID=America/New_York:20301113T184500
DTEND;TZID=America/New_York:20301113T200000
DTSTAMP:20260422T110249
CREATED:20250425T185001Z
LAST-MODIFIED:20260204T164016Z
UID:10001986-1920825900-1920830400@nhbc-wv.org
SUMMARY:Choir Rehearsal
DESCRIPTION:Our choir has a short Bible study then rehearses
URL:https://nhbc-wv.org/events/choir-rehearsal/2030-11-13/
LOCATION:Sanctuary
CATEGORIES:Music,Small Groups
ATTACH;FMTTYPE=image/png:https://nhbc-wv.org/wp-content/uploads/2025/03/Choir.png
ORGANIZER;CN="Sara McClure":MAILTO:saramcclure13578@gmail.com
END:VEVENT
BEGIN:VEVENT
DTSTART;TZID=America/New_York:20301120T180000
DTEND;TZID=America/New_York:20301120T191500
DTSTAMP:20260422T110249
CREATED:20250325T184651Z
LAST-MODIFIED:20260204T164057Z
UID:10002293-1921428000-1921432500@nhbc-wv.org
SUMMARY:Praise Team Rehearsal
DESCRIPTION:Our praise team meets Wednesday evenings to rehearse for the Sunday worship service.
URL:https://nhbc-wv.org/events/praise-team-rehearsal/2030-11-20/
LOCATION:Sanctuary
CATEGORIES:Fellowship,Small Groups
ATTACH;FMTTYPE=image/png:https://nhbc-wv.org/wp-content/uploads/2025/03/Praise-Team.png
ORGANIZER;CN="Brian McClure":MAILTO:brian.mcclure@nhbc-wv.org
END:VEVENT
BEGIN:VEVENT
DTSTART;TZID=America/New_York:20301120T184500
DTEND;TZID=America/New_York:20301120T200000
DTSTAMP:20260422T110249
CREATED:20250425T185001Z
LAST-MODIFIED:20260204T164016Z
UID:10001987-1921430700-1921435200@nhbc-wv.org
SUMMARY:Choir Rehearsal
DESCRIPTION:Our choir has a short Bible study then rehearses
URL:https://nhbc-wv.org/events/choir-rehearsal/2030-11-20/
LOCATION:Sanctuary
CATEGORIES:Music,Small Groups
ATTACH;FMTTYPE=image/png:https://nhbc-wv.org/wp-content/uploads/2025/03/Choir.png
ORGANIZER;CN="Sara McClure":MAILTO:saramcclure13578@gmail.com
END:VEVENT
BEGIN:VEVENT
DTSTART;TZID=America/New_York:20301127T180000
DTEND;TZID=America/New_York:20301127T191500
DTSTAMP:20260422T110249
CREATED:20250325T184651Z
LAST-MODIFIED:20260204T164057Z
UID:10002294-1922032800-1922037300@nhbc-wv.org
SUMMARY:Praise Team Rehearsal
DESCRIPTION:Our praise team meets Wednesday evenings to rehearse for the Sunday worship service.
URL:https://nhbc-wv.org/events/praise-team-rehearsal/2030-11-27/
LOCATION:Sanctuary
CATEGORIES:Fellowship,Small Groups
ATTACH;FMTTYPE=image/png:https://nhbc-wv.org/wp-content/uploads/2025/03/Praise-Team.png
ORGANIZER;CN="Brian McClure":MAILTO:brian.mcclure@nhbc-wv.org
END:VEVENT
BEGIN:VEVENT
DTSTART;TZID=America/New_York:20301127T184500
DTEND;TZID=America/New_York:20301127T200000
DTSTAMP:20260422T110249
CREATED:20250425T185001Z
LAST-MODIFIED:20260204T164016Z
UID:10001988-1922035500-1922040000@nhbc-wv.org
SUMMARY:Choir Rehearsal
DESCRIPTION:Our choir has a short Bible study then rehearses
URL:https://nhbc-wv.org/events/choir-rehearsal/2030-11-27/
LOCATION:Sanctuary
CATEGORIES:Music,Small Groups
ATTACH;FMTTYPE=image/png:https://nhbc-wv.org/wp-content/uploads/2025/03/Choir.png
ORGANIZER;CN="Sara McClure":MAILTO:saramcclure13578@gmail.com
END:VEVENT
END:VCALENDAR