BEGIN:VCALENDAR
VERSION:2.0
PRODID:-//nhbc-wv.org - ECPv6.15.20//NONSGML v1.0//EN
CALSCALE:GREGORIAN
METHOD:PUBLISH
X-WR-CALNAME:nhbc-wv.org
X-ORIGINAL-URL:https://nhbc-wv.org
X-WR-CALDESC:Events for nhbc-wv.org
REFRESH-INTERVAL;VALUE=DURATION:PT1H
X-Robots-Tag:noindex
X-PUBLISHED-TTL:PT1H
BEGIN:VTIMEZONE
TZID:America/New_York
BEGIN:DAYLIGHT
TZOFFSETFROM:-0500
TZOFFSETTO:-0400
TZNAME:EDT
DTSTART:20290311T070000
END:DAYLIGHT
BEGIN:STANDARD
TZOFFSETFROM:-0400
TZOFFSETTO:-0500
TZNAME:EST
DTSTART:20291104T060000
END:STANDARD
BEGIN:DAYLIGHT
TZOFFSETFROM:-0500
TZOFFSETTO:-0400
TZNAME:EDT
DTSTART:20300310T070000
END:DAYLIGHT
BEGIN:STANDARD
TZOFFSETFROM:-0400
TZOFFSETTO:-0500
TZNAME:EST
DTSTART:20301103T060000
END:STANDARD
BEGIN:DAYLIGHT
TZOFFSETFROM:-0500
TZOFFSETTO:-0400
TZNAME:EDT
DTSTART:20310309T070000
END:DAYLIGHT
BEGIN:STANDARD
TZOFFSETFROM:-0400
TZOFFSETTO:-0500
TZNAME:EST
DTSTART:20311102T060000
END:STANDARD
END:VTIMEZONE
BEGIN:VEVENT
DTSTART;TZID=America/New_York:20301002T180000
DTEND;TZID=America/New_York:20301002T191500
DTSTAMP:20260422T092832
CREATED:20250325T184651Z
LAST-MODIFIED:20260204T164057Z
UID:10002286-1917194400-1917198900@nhbc-wv.org
SUMMARY:Praise Team Rehearsal
DESCRIPTION:Our praise team meets Wednesday evenings to rehearse for the Sunday worship service.
URL:https://nhbc-wv.org/events/praise-team-rehearsal/2030-10-02/
LOCATION:Sanctuary
CATEGORIES:Fellowship,Small Groups
ATTACH;FMTTYPE=image/png:https://nhbc-wv.org/wp-content/uploads/2025/03/Praise-Team.png
ORGANIZER;CN="Brian McClure":MAILTO:brian.mcclure@nhbc-wv.org
END:VEVENT
BEGIN:VEVENT
DTSTART;TZID=America/New_York:20301002T184500
DTEND;TZID=America/New_York:20301002T200000
DTSTAMP:20260422T092832
CREATED:20250425T185001Z
LAST-MODIFIED:20260204T164016Z
UID:10001980-1917197100-1917201600@nhbc-wv.org
SUMMARY:Choir Rehearsal
DESCRIPTION:Our choir has a short Bible study then rehearses
URL:https://nhbc-wv.org/events/choir-rehearsal/2030-10-02/
LOCATION:Sanctuary
CATEGORIES:Music,Small Groups
ATTACH;FMTTYPE=image/png:https://nhbc-wv.org/wp-content/uploads/2025/03/Choir.png
ORGANIZER;CN="Sara McClure":MAILTO:saramcclure13578@gmail.com
END:VEVENT
BEGIN:VEVENT
DTSTART;TZID=America/New_York:20301009T180000
DTEND;TZID=America/New_York:20301009T191500
DTSTAMP:20260422T092832
CREATED:20250325T184651Z
LAST-MODIFIED:20260204T164057Z
UID:10002287-1917799200-1917803700@nhbc-wv.org
SUMMARY:Praise Team Rehearsal
DESCRIPTION:Our praise team meets Wednesday evenings to rehearse for the Sunday worship service.
URL:https://nhbc-wv.org/events/praise-team-rehearsal/2030-10-09/
LOCATION:Sanctuary
CATEGORIES:Fellowship,Small Groups
ATTACH;FMTTYPE=image/png:https://nhbc-wv.org/wp-content/uploads/2025/03/Praise-Team.png
ORGANIZER;CN="Brian McClure":MAILTO:brian.mcclure@nhbc-wv.org
END:VEVENT
BEGIN:VEVENT
DTSTART;TZID=America/New_York:20301009T184500
DTEND;TZID=America/New_York:20301009T200000
DTSTAMP:20260422T092832
CREATED:20250425T185001Z
LAST-MODIFIED:20260204T164016Z
UID:10001981-1917801900-1917806400@nhbc-wv.org
SUMMARY:Choir Rehearsal
DESCRIPTION:Our choir has a short Bible study then rehearses
URL:https://nhbc-wv.org/events/choir-rehearsal/2030-10-09/
LOCATION:Sanctuary
CATEGORIES:Music,Small Groups
ATTACH;FMTTYPE=image/png:https://nhbc-wv.org/wp-content/uploads/2025/03/Choir.png
ORGANIZER;CN="Sara McClure":MAILTO:saramcclure13578@gmail.com
END:VEVENT
BEGIN:VEVENT
DTSTART;TZID=America/New_York:20301016T180000
DTEND;TZID=America/New_York:20301016T191500
DTSTAMP:20260422T092832
CREATED:20250325T184651Z
LAST-MODIFIED:20260204T164057Z
UID:10002288-1918404000-1918408500@nhbc-wv.org
SUMMARY:Praise Team Rehearsal
DESCRIPTION:Our praise team meets Wednesday evenings to rehearse for the Sunday worship service.
URL:https://nhbc-wv.org/events/praise-team-rehearsal/2030-10-16/
LOCATION:Sanctuary
CATEGORIES:Fellowship,Small Groups
ATTACH;FMTTYPE=image/png:https://nhbc-wv.org/wp-content/uploads/2025/03/Praise-Team.png
ORGANIZER;CN="Brian McClure":MAILTO:brian.mcclure@nhbc-wv.org
END:VEVENT
BEGIN:VEVENT
DTSTART;TZID=America/New_York:20301016T184500
DTEND;TZID=America/New_York:20301016T200000
DTSTAMP:20260422T092832
CREATED:20250425T185001Z
LAST-MODIFIED:20260204T164016Z
UID:10001982-1918406700-1918411200@nhbc-wv.org
SUMMARY:Choir Rehearsal
DESCRIPTION:Our choir has a short Bible study then rehearses
URL:https://nhbc-wv.org/events/choir-rehearsal/2030-10-16/
LOCATION:Sanctuary
CATEGORIES:Music,Small Groups
ATTACH;FMTTYPE=image/png:https://nhbc-wv.org/wp-content/uploads/2025/03/Choir.png
ORGANIZER;CN="Sara McClure":MAILTO:saramcclure13578@gmail.com
END:VEVENT
BEGIN:VEVENT
DTSTART;TZID=America/New_York:20301023T180000
DTEND;TZID=America/New_York:20301023T191500
DTSTAMP:20260422T092832
CREATED:20250325T184651Z
LAST-MODIFIED:20260204T164057Z
UID:10002289-1919008800-1919013300@nhbc-wv.org
SUMMARY:Praise Team Rehearsal
DESCRIPTION:Our praise team meets Wednesday evenings to rehearse for the Sunday worship service.
URL:https://nhbc-wv.org/events/praise-team-rehearsal/2030-10-23/
LOCATION:Sanctuary
CATEGORIES:Fellowship,Small Groups
ATTACH;FMTTYPE=image/png:https://nhbc-wv.org/wp-content/uploads/2025/03/Praise-Team.png
ORGANIZER;CN="Brian McClure":MAILTO:brian.mcclure@nhbc-wv.org
END:VEVENT
BEGIN:VEVENT
DTSTART;TZID=America/New_York:20301023T184500
DTEND;TZID=America/New_York:20301023T200000
DTSTAMP:20260422T092832
CREATED:20250425T185001Z
LAST-MODIFIED:20260204T164016Z
UID:10001983-1919011500-1919016000@nhbc-wv.org
SUMMARY:Choir Rehearsal
DESCRIPTION:Our choir has a short Bible study then rehearses
URL:https://nhbc-wv.org/events/choir-rehearsal/2030-10-23/
LOCATION:Sanctuary
CATEGORIES:Music,Small Groups
ATTACH;FMTTYPE=image/png:https://nhbc-wv.org/wp-content/uploads/2025/03/Choir.png
ORGANIZER;CN="Sara McClure":MAILTO:saramcclure13578@gmail.com
END:VEVENT
BEGIN:VEVENT
DTSTART;TZID=America/New_York:20301030T180000
DTEND;TZID=America/New_York:20301030T191500
DTSTAMP:20260422T092832
CREATED:20250325T184651Z
LAST-MODIFIED:20260204T164057Z
UID:10002290-1919613600-1919618100@nhbc-wv.org
SUMMARY:Praise Team Rehearsal
DESCRIPTION:Our praise team meets Wednesday evenings to rehearse for the Sunday worship service.
URL:https://nhbc-wv.org/events/praise-team-rehearsal/2030-10-30/
LOCATION:Sanctuary
CATEGORIES:Fellowship,Small Groups
ATTACH;FMTTYPE=image/png:https://nhbc-wv.org/wp-content/uploads/2025/03/Praise-Team.png
ORGANIZER;CN="Brian McClure":MAILTO:brian.mcclure@nhbc-wv.org
END:VEVENT
BEGIN:VEVENT
DTSTART;TZID=America/New_York:20301030T184500
DTEND;TZID=America/New_York:20301030T200000
DTSTAMP:20260422T092832
CREATED:20250425T185001Z
LAST-MODIFIED:20260204T164016Z
UID:10001984-1919616300-1919620800@nhbc-wv.org
SUMMARY:Choir Rehearsal
DESCRIPTION:Our choir has a short Bible study then rehearses
URL:https://nhbc-wv.org/events/choir-rehearsal/2030-10-30/
LOCATION:Sanctuary
CATEGORIES:Music,Small Groups
ATTACH;FMTTYPE=image/png:https://nhbc-wv.org/wp-content/uploads/2025/03/Choir.png
ORGANIZER;CN="Sara McClure":MAILTO:saramcclure13578@gmail.com
END:VEVENT
END:VCALENDAR