BEGIN:VCALENDAR
VERSION:2.0
PRODID:-//nhbc-wv.org - ECPv6.15.20//NONSGML v1.0//EN
CALSCALE:GREGORIAN
METHOD:PUBLISH
X-WR-CALNAME:nhbc-wv.org
X-ORIGINAL-URL:https://nhbc-wv.org
X-WR-CALDESC:Events for nhbc-wv.org
REFRESH-INTERVAL;VALUE=DURATION:PT1H
X-Robots-Tag:noindex
X-PUBLISHED-TTL:PT1H
BEGIN:VTIMEZONE
TZID:America/New_York
BEGIN:DAYLIGHT
TZOFFSETFROM:-0500
TZOFFSETTO:-0400
TZNAME:EDT
DTSTART:20290311T070000
END:DAYLIGHT
BEGIN:STANDARD
TZOFFSETFROM:-0400
TZOFFSETTO:-0500
TZNAME:EST
DTSTART:20291104T060000
END:STANDARD
BEGIN:DAYLIGHT
TZOFFSETFROM:-0500
TZOFFSETTO:-0400
TZNAME:EDT
DTSTART:20300310T070000
END:DAYLIGHT
BEGIN:STANDARD
TZOFFSETFROM:-0400
TZOFFSETTO:-0500
TZNAME:EST
DTSTART:20301103T060000
END:STANDARD
BEGIN:DAYLIGHT
TZOFFSETFROM:-0500
TZOFFSETTO:-0400
TZNAME:EDT
DTSTART:20310309T070000
END:DAYLIGHT
BEGIN:STANDARD
TZOFFSETFROM:-0400
TZOFFSETTO:-0500
TZNAME:EST
DTSTART:20311102T060000
END:STANDARD
END:VTIMEZONE
BEGIN:VEVENT
DTSTART;TZID=America/New_York:20300807T180000
DTEND;TZID=America/New_York:20300807T191500
DTSTAMP:20260422T061553
CREATED:20250325T184651Z
LAST-MODIFIED:20260204T164057Z
UID:10002278-1912356000-1912360500@nhbc-wv.org
SUMMARY:Praise Team Rehearsal
DESCRIPTION:Our praise team meets Wednesday evenings to rehearse for the Sunday worship service.
URL:https://nhbc-wv.org/events/praise-team-rehearsal/2030-08-07/
LOCATION:Sanctuary
CATEGORIES:Fellowship,Small Groups
ATTACH;FMTTYPE=image/png:https://nhbc-wv.org/wp-content/uploads/2025/03/Praise-Team.png
ORGANIZER;CN="Brian McClure":MAILTO:brian.mcclure@nhbc-wv.org
END:VEVENT
BEGIN:VEVENT
DTSTART;TZID=America/New_York:20300807T184500
DTEND;TZID=America/New_York:20300807T200000
DTSTAMP:20260422T061553
CREATED:20250425T185001Z
LAST-MODIFIED:20260204T164016Z
UID:10001972-1912358700-1912363200@nhbc-wv.org
SUMMARY:Choir Rehearsal
DESCRIPTION:Our choir has a short Bible study then rehearses
URL:https://nhbc-wv.org/events/choir-rehearsal/2030-08-07/
LOCATION:Sanctuary
CATEGORIES:Music,Small Groups
ATTACH;FMTTYPE=image/png:https://nhbc-wv.org/wp-content/uploads/2025/03/Choir.png
ORGANIZER;CN="Sara McClure":MAILTO:saramcclure13578@gmail.com
END:VEVENT
BEGIN:VEVENT
DTSTART;TZID=America/New_York:20300814T180000
DTEND;TZID=America/New_York:20300814T191500
DTSTAMP:20260422T061553
CREATED:20250325T184651Z
LAST-MODIFIED:20260204T164057Z
UID:10002279-1912960800-1912965300@nhbc-wv.org
SUMMARY:Praise Team Rehearsal
DESCRIPTION:Our praise team meets Wednesday evenings to rehearse for the Sunday worship service.
URL:https://nhbc-wv.org/events/praise-team-rehearsal/2030-08-14/
LOCATION:Sanctuary
CATEGORIES:Fellowship,Small Groups
ATTACH;FMTTYPE=image/png:https://nhbc-wv.org/wp-content/uploads/2025/03/Praise-Team.png
ORGANIZER;CN="Brian McClure":MAILTO:brian.mcclure@nhbc-wv.org
END:VEVENT
BEGIN:VEVENT
DTSTART;TZID=America/New_York:20300814T184500
DTEND;TZID=America/New_York:20300814T200000
DTSTAMP:20260422T061553
CREATED:20250425T185001Z
LAST-MODIFIED:20260204T164016Z
UID:10001973-1912963500-1912968000@nhbc-wv.org
SUMMARY:Choir Rehearsal
DESCRIPTION:Our choir has a short Bible study then rehearses
URL:https://nhbc-wv.org/events/choir-rehearsal/2030-08-14/
LOCATION:Sanctuary
CATEGORIES:Music,Small Groups
ATTACH;FMTTYPE=image/png:https://nhbc-wv.org/wp-content/uploads/2025/03/Choir.png
ORGANIZER;CN="Sara McClure":MAILTO:saramcclure13578@gmail.com
END:VEVENT
BEGIN:VEVENT
DTSTART;TZID=America/New_York:20300821T180000
DTEND;TZID=America/New_York:20300821T191500
DTSTAMP:20260422T061553
CREATED:20250325T184651Z
LAST-MODIFIED:20260204T164057Z
UID:10002280-1913565600-1913570100@nhbc-wv.org
SUMMARY:Praise Team Rehearsal
DESCRIPTION:Our praise team meets Wednesday evenings to rehearse for the Sunday worship service.
URL:https://nhbc-wv.org/events/praise-team-rehearsal/2030-08-21/
LOCATION:Sanctuary
CATEGORIES:Fellowship,Small Groups
ATTACH;FMTTYPE=image/png:https://nhbc-wv.org/wp-content/uploads/2025/03/Praise-Team.png
ORGANIZER;CN="Brian McClure":MAILTO:brian.mcclure@nhbc-wv.org
END:VEVENT
BEGIN:VEVENT
DTSTART;TZID=America/New_York:20300821T184500
DTEND;TZID=America/New_York:20300821T200000
DTSTAMP:20260422T061553
CREATED:20250425T185001Z
LAST-MODIFIED:20260204T164016Z
UID:10001974-1913568300-1913572800@nhbc-wv.org
SUMMARY:Choir Rehearsal
DESCRIPTION:Our choir has a short Bible study then rehearses
URL:https://nhbc-wv.org/events/choir-rehearsal/2030-08-21/
LOCATION:Sanctuary
CATEGORIES:Music,Small Groups
ATTACH;FMTTYPE=image/png:https://nhbc-wv.org/wp-content/uploads/2025/03/Choir.png
ORGANIZER;CN="Sara McClure":MAILTO:saramcclure13578@gmail.com
END:VEVENT
BEGIN:VEVENT
DTSTART;TZID=America/New_York:20300828T180000
DTEND;TZID=America/New_York:20300828T191500
DTSTAMP:20260422T061553
CREATED:20250325T184651Z
LAST-MODIFIED:20260204T164057Z
UID:10002281-1914170400-1914174900@nhbc-wv.org
SUMMARY:Praise Team Rehearsal
DESCRIPTION:Our praise team meets Wednesday evenings to rehearse for the Sunday worship service.
URL:https://nhbc-wv.org/events/praise-team-rehearsal/2030-08-28/
LOCATION:Sanctuary
CATEGORIES:Fellowship,Small Groups
ATTACH;FMTTYPE=image/png:https://nhbc-wv.org/wp-content/uploads/2025/03/Praise-Team.png
ORGANIZER;CN="Brian McClure":MAILTO:brian.mcclure@nhbc-wv.org
END:VEVENT
BEGIN:VEVENT
DTSTART;TZID=America/New_York:20300828T184500
DTEND;TZID=America/New_York:20300828T200000
DTSTAMP:20260422T061553
CREATED:20250425T185001Z
LAST-MODIFIED:20260204T164016Z
UID:10001975-1914173100-1914177600@nhbc-wv.org
SUMMARY:Choir Rehearsal
DESCRIPTION:Our choir has a short Bible study then rehearses
URL:https://nhbc-wv.org/events/choir-rehearsal/2030-08-28/
LOCATION:Sanctuary
CATEGORIES:Music,Small Groups
ATTACH;FMTTYPE=image/png:https://nhbc-wv.org/wp-content/uploads/2025/03/Choir.png
ORGANIZER;CN="Sara McClure":MAILTO:saramcclure13578@gmail.com
END:VEVENT
END:VCALENDAR